BEGIN:VCALENDAR
VERSION:2.0
PRODID:-//wp-events-plugin.com//7.2.3.1//EN
TZID:Europe/Prague
X-WR-TIMEZONE:Europe/Prague
BEGIN:VEVENT
UID:88@hanackenovinky.cz
DTSTART;TZID=Europe/Prague:20240202T190000
DTEND;TZID=Europe/Prague:20240202T190000
DTSTAMP:20240126T102013Z
URL:https://hanackenovinky.cz/akce/koncert-andrej-a-ksc
SUMMARY:Koncert Andrej a KSČ
DESCRIPTION:Pívo hele výborné\, Přema určitě něco dobrýho uvaří\,
  mozeka bode taky.
ATTACH;FMTTYPE=image/jpeg:https://hanackenovinky.cz/wp-content/uploads/202
 4/01/andrej.jpg
LOCATION:U Kaple\, Masarykova náves 52\, Grygov\, Česká republika
X-APPLE-STRUCTURED-LOCATION;VALUE=URI;X-ADDRESS=Masarykova náves 52\, Gryg
 ov\, Česká republika;X-APPLE-RADIUS=100;X-TITLE=U Kaple:geo:0,0
END:VEVENT
BEGIN:VTIMEZONE
TZID:Europe/Prague
X-LIC-LOCATION:Europe/Prague
BEGIN:STANDARD
DTSTART:20231029T020000
TZOFFSETFROM:+0200
TZOFFSETTO:+0100
TZNAME:CET
END:STANDARD
END:VTIMEZONE
END:VCALENDAR